BEGIN:VCALENDAR
VERSION:2.0
PRODID:-//West Central Initiative - ECPv6.15.17.1//NONSGML v1.0//EN
CALSCALE:GREGORIAN
METHOD:PUBLISH
X-ORIGINAL-URL:https://wcif.org
X-WR-CALDESC:Events for West Central Initiative
REFRESH-INTERVAL;VALUE=DURATION:PT1H
X-Robots-Tag:noindex
X-PUBLISHED-TTL:PT1H
BEGIN:VTIMEZONE
TZID:America/Chicago
BEGIN:DAYLIGHT
TZOFFSETFROM:-0600
TZOFFSETTO:-0500
TZNAME:CDT
DTSTART:20230312T080000
END:DAYLIGHT
BEGIN:STANDARD
TZOFFSETFROM:-0500
TZOFFSETTO:-0600
TZNAME:CST
DTSTART:20231105T070000
END:STANDARD
BEGIN:DAYLIGHT
TZOFFSETFROM:-0600
TZOFFSETTO:-0500
TZNAME:CDT
DTSTART:20240310T080000
END:DAYLIGHT
BEGIN:STANDARD
TZOFFSETFROM:-0500
TZOFFSETTO:-0600
TZNAME:CST
DTSTART:20241103T070000
END:STANDARD
BEGIN:DAYLIGHT
TZOFFSETFROM:-0600
TZOFFSETTO:-0500
TZNAME:CDT
DTSTART:20250309T080000
END:DAYLIGHT
BEGIN:STANDARD
TZOFFSETFROM:-0500
TZOFFSETTO:-0600
TZNAME:CST
DTSTART:20251102T070000
END:STANDARD
END:VTIMEZONE
BEGIN:VEVENT
DTSTART;TZID=America/Chicago:20240408T180000
DTEND;TZID=America/Chicago:20240408T200000
DTSTAMP:20260423T011649
CREATED:20240402T120055Z
LAST-MODIFIED:20240402T120055Z
UID:10000142-1712599200-1712606400@wcif.org
SUMMARY:Join or Die Screening - Morris
DESCRIPTION:Join or Die – an award-winning documentary – centers on America’s civic unraveling through the journey of social scientist Robert Putnam\, whose decades-long research on the decline in community connections lights a path out of our democracy’s present crisis. \nJoin us for an engaging evening of discovery\, discussion\, and community building as we explore what makes democracy work\, why American democracy is in crisis\, and what we can do about it. Following the film screening\, complimentary appetizers and refreshments will be provided. \nWhen: Monday\, April 8th at 6:00pm\n\nWhere: Recital Hall in the Humanities Fine Arts Building at the University of Minnesota Morris\,\n600 East 4th Street Morris\, Minnesota 56267\n\nParking: Available in the North Lot.\n\nWho: All are welcome! Bring a friend or neighbor!\n\nCost: No charge \nRegister: https://bit.ly/Join-Or-Die-Morris \nCo-hosted by West Central Initiative\, MN Farmers Union\, and University of Minnesota – Morris.
URL:https://wcif.org/event/join-or-die-screening-morris-2/
CATEGORIES:In Person Event
ATTACH;FMTTYPE=image/png:https://wcif.org/wp-content/uploads/2024/04/JOD_Poster_May-2023-e1712068476280.png
END:VEVENT
END:VCALENDAR