BEGIN:VCALENDAR
VERSION:2.0
PRODID:-//West Central Initiative - ECPv6.15.17.1//NONSGML v1.0//EN
CALSCALE:GREGORIAN
METHOD:PUBLISH
X-ORIGINAL-URL:https://wcif.org
X-WR-CALDESC:Events for West Central Initiative
REFRESH-INTERVAL;VALUE=DURATION:PT1H
X-Robots-Tag:noindex
X-PUBLISHED-TTL:PT1H
BEGIN:VTIMEZONE
TZID:America/Chicago
BEGIN:DAYLIGHT
TZOFFSETFROM:-0600
TZOFFSETTO:-0500
TZNAME:CDT
DTSTART:20210314T080000
END:DAYLIGHT
BEGIN:STANDARD
TZOFFSETFROM:-0500
TZOFFSETTO:-0600
TZNAME:CST
DTSTART:20211107T070000
END:STANDARD
BEGIN:DAYLIGHT
TZOFFSETFROM:-0600
TZOFFSETTO:-0500
TZNAME:CDT
DTSTART:20220313T080000
END:DAYLIGHT
BEGIN:STANDARD
TZOFFSETFROM:-0500
TZOFFSETTO:-0600
TZNAME:CST
DTSTART:20221106T070000
END:STANDARD
BEGIN:DAYLIGHT
TZOFFSETFROM:-0600
TZOFFSETTO:-0500
TZNAME:CDT
DTSTART:20230312T080000
END:DAYLIGHT
BEGIN:STANDARD
TZOFFSETFROM:-0500
TZOFFSETTO:-0600
TZNAME:CST
DTSTART:20231105T070000
END:STANDARD
END:VTIMEZONE
BEGIN:VEVENT
DTSTART;TZID=America/Chicago:20221115T170000
DTEND;TZID=America/Chicago:20221115T193000
DTSTAMP:20260422T200801
CREATED:20221004T144512Z
LAST-MODIFIED:20221004T144512Z
UID:10000121-1668531600-1668540600@wcif.org
SUMMARY:Autumn Convivium
DESCRIPTION:We’re inviting our friends and partners in Detroit Lakes and beyond to an evening of celebration\, exploration\, and conversation at the Historic Holmes Theatre. \n5-6:45 p.m. Social & Interactive Booths \nBlackboard\, based in Vergas\, will provide heavy hors d’oeuvres. Booths with focuses on climate\, community\, and kids will be available for you to read\, taste\, and explore elements unique to this region. Be sure to view our guests below! \n6:45-7:30 p.m. Dessert & Conversation \nStarting at 6:45 p.m.\, guests will enjoy dessert while Storyteller Kevin Kling hosts an evening presentation that features a story by Emily Buermann\, a Becker County Resident and enrolled member of the White Earth Band of Ojibwe\, and a conversation between Kevin Lindsey\, CEO of the Minnesota Humanities Center\, and Anna Wasescha\, president of our organization. \nLearn more and register.
URL:https://wcif.org/event/autumn-convivium-2/
CATEGORIES:In Person Event
ATTACH;FMTTYPE=image/png:https://wcif.org/wp-content/uploads/2022/10/AUTUMN-CONVIVIUM-V2-2.png
END:VEVENT
END:VCALENDAR