BEGIN:VCALENDAR
VERSION:2.0
PRODID:-//West Central Initiative - ECPv6.15.17.1//NONSGML v1.0//EN
CALSCALE:GREGORIAN
METHOD:PUBLISH
X-WR-CALNAME:West Central Initiative
X-ORIGINAL-URL:https://wcif.org
X-WR-CALDESC:Events for West Central Initiative
REFRESH-INTERVAL;VALUE=DURATION:PT1H
X-Robots-Tag:noindex
X-PUBLISHED-TTL:PT1H
BEGIN:VTIMEZONE
TZID:America/Chicago
BEGIN:DAYLIGHT
TZOFFSETFROM:-0600
TZOFFSETTO:-0500
TZNAME:CDT
DTSTART:20230312T080000
END:DAYLIGHT
BEGIN:STANDARD
TZOFFSETFROM:-0500
TZOFFSETTO:-0600
TZNAME:CST
DTSTART:20231105T070000
END:STANDARD
BEGIN:DAYLIGHT
TZOFFSETFROM:-0600
TZOFFSETTO:-0500
TZNAME:CDT
DTSTART:20240310T080000
END:DAYLIGHT
BEGIN:STANDARD
TZOFFSETFROM:-0500
TZOFFSETTO:-0600
TZNAME:CST
DTSTART:20241103T070000
END:STANDARD
BEGIN:DAYLIGHT
TZOFFSETFROM:-0600
TZOFFSETTO:-0500
TZNAME:CDT
DTSTART:20250309T080000
END:DAYLIGHT
BEGIN:STANDARD
TZOFFSETFROM:-0500
TZOFFSETTO:-0600
TZNAME:CST
DTSTART:20251102T070000
END:STANDARD
END:VTIMEZONE
BEGIN:VEVENT
DTSTART;TZID=America/Chicago:20240612T100000
DTEND;TZID=America/Chicago:20240612T170000
DTSTAMP:20260419T092342
CREATED:20231227T154051Z
LAST-MODIFIED:20231227T154051Z
UID:10000132-1718186400-1718211600@wcif.org
SUMMARY:17 Rooms – West Central Minnesota
DESCRIPTION:West Central Initiative\, the University of Minnesota Morris\, and the Morris Model have partnered to bring 17 Rooms to our region. The 17 Rooms process is about localized actions\, insights\, and community for the Sustainable Development Goals. \nHow does it work?\nParticipants gather into working groups (or “rooms”)\, one per SDG\, to explore and advance actionable next steps relating to the SDGs. Action ideas are then shared to spot opportunities for cooperation that bubble up across rooms. The objective is to generate concrete localized actions that can be taken over the next 12-18 months to improve SDG outcomes. \nInterested in participating?\nWe are looking for a cross-section of regional partners\, including official and unofficial community and regional leaders\, educators\, nonprofit representatives\, tribal representatives\, high school and college students\, business owners\, and anyone passionate about furthering this region and planning for the future. \nLearn more and express your interest in participating at 17rooms-mn.com.
URL:https://wcif.org/event/17-rooms-2/
LOCATION:MN
CATEGORIES:In Person Event
ATTACH;FMTTYPE=image/jpeg:https://wcif.org/wp-content/uploads/2023/12/17-Rooms-Cover.jpg
END:VEVENT
BEGIN:VEVENT
DTSTART;TZID=America/Chicago:20240620T110000
DTEND;TZID=America/Chicago:20240620T130000
DTSTAMP:20260419T092342
CREATED:20240522T161352Z
LAST-MODIFIED:20240522T161352Z
UID:10000147-1718881200-1718888400@wcif.org
SUMMARY:Retirement Celebration for Nancy Jost
DESCRIPTION:After decades of dedicated service advocating for children\, women\, and families\, Nancy Jost is retiring! Let’s celebrate the end of an era and the beginning of a retirement adventure. Join us at Thumper Pond Resort in Ottertail\, Minnesota\, from 11 a.m. to 1 p.m. Remarks will begin at 11:30 a.m. Lunch will be served. This event is open to all\, particularly those who have had the opportunity to work alongside Nancy over the years in any capacity. Please RSVP by June 11. \nIf you’re unable to attend the event at Thumper Pond\, please consider sending your warm wishes (30 seconds or less) for a video compilation for Nancy to ashley@wcif.org by June 6. \nIn addition to the event at Thumper Pond\, the Minnesota Prenatal to Three Coalition will recognize Nancy’s retirement on Thursday\, June 13\, from 5-7 p.m. at 23 Empire Dr STE 1000 in St. Paul. A short program will start at 5:30 p.m.
URL:https://wcif.org/event/retirement-celebration-for-nancy-jost-2/
LOCATION:MN
CATEGORIES:In Person Event
ATTACH;FMTTYPE=image/jpeg:https://wcif.org/wp-content/uploads/2024/05/Blue-and-Green-Modern-Retirement-Party-Flyer-5-e1716398631117.jpg
END:VEVENT
BEGIN:VEVENT
DTSTART;TZID=America/Chicago:20240626T180000
DTEND;TZID=America/Chicago:20240626T200000
DTSTAMP:20260419T092342
CREATED:20240614T140440Z
LAST-MODIFIED:20240614T140440Z
UID:10000148-1719424800-1719432000@wcif.org
SUMMARY:Rule 2 Family-based Modernization Listening Session
DESCRIPTION:Big Picture Agenda\n• 5 mins: Welcome and housekeeping\n• 10 mins: Presentation on draft revised licensing standards\n• 30 mins: Gallery walk and feedback\n• 60 mins: Come back as large group to discuss\n• 15 mins: Closing and next steps
URL:https://wcif.org/event/rule-2-family-based-modernization-listening-session-2/
LOCATION:MN
CATEGORIES:In Person Event
ATTACH;FMTTYPE=image/png:https://wcif.org/wp-content/uploads/2024/06/Screenshot-2024-06-14-at-10.00.07-AM.png
END:VEVENT
END:VCALENDAR