BEGIN:VCALENDAR
VERSION:2.0
PRODID:-//West Central Initiative - ECPv6.15.17.1//NONSGML v1.0//EN
CALSCALE:GREGORIAN
METHOD:PUBLISH
X-WR-CALNAME:West Central Initiative
X-ORIGINAL-URL:https://wcif.org
X-WR-CALDESC:Events for West Central Initiative
REFRESH-INTERVAL;VALUE=DURATION:PT1H
X-Robots-Tag:noindex
X-PUBLISHED-TTL:PT1H
BEGIN:VTIMEZONE
TZID:America/Chicago
BEGIN:DAYLIGHT
TZOFFSETFROM:-0600
TZOFFSETTO:-0500
TZNAME:CDT
DTSTART:20230312T080000
END:DAYLIGHT
BEGIN:STANDARD
TZOFFSETFROM:-0500
TZOFFSETTO:-0600
TZNAME:CST
DTSTART:20231105T070000
END:STANDARD
BEGIN:DAYLIGHT
TZOFFSETFROM:-0600
TZOFFSETTO:-0500
TZNAME:CDT
DTSTART:20240310T080000
END:DAYLIGHT
BEGIN:STANDARD
TZOFFSETFROM:-0500
TZOFFSETTO:-0600
TZNAME:CST
DTSTART:20241103T070000
END:STANDARD
BEGIN:DAYLIGHT
TZOFFSETFROM:-0600
TZOFFSETTO:-0500
TZNAME:CDT
DTSTART:20250309T080000
END:DAYLIGHT
BEGIN:STANDARD
TZOFFSETFROM:-0500
TZOFFSETTO:-0600
TZNAME:CST
DTSTART:20251102T070000
END:STANDARD
END:VTIMEZONE
BEGIN:VEVENT
DTSTART;TZID=America/Chicago:20240103T123000
DTEND;TZID=America/Chicago:20240103T143000
DTSTAMP:20260423T053322
CREATED:20231207T182138Z
LAST-MODIFIED:20231207T182138Z
UID:10000131-1704285000-1704292200@wcif.org
SUMMARY:The Unique Business of Family Child Care
DESCRIPTION:Free virtual training for tax professionals! \nAttendees will learn how to understand and properly prepare the Family Child Care Provider’s income tax return. \nDuring the training\, we’ll identify the top ten areas most often overlooked or misunderstood by tax professionals when preparing a Family Child Care Business tax return. \nThis training is available exclusively for tax professionals located in\nBecker\, Clay\, Douglas\, Grant\, Otter Tail\, Pope\, Stevens\, Traverse\, and Wilkin Counties. \nRegister Now \nPresented by Books by Kelly and offered through a partnership between First Children’s Finance and West Central Initiative.
URL:https://wcif.org/event/the-unique-business-of-family-child-care-2/
LOCATION:MN
CATEGORIES:Virtual Event
ATTACH;FMTTYPE=image/png:https://wcif.org/wp-content/uploads/2023/12/Child-Tax.png
END:VEVENT
END:VCALENDAR