BEGIN:VCALENDAR
VERSION:2.0
PRODID:-//West Central Initiative - ECPv6.15.17.1//NONSGML v1.0//EN
CALSCALE:GREGORIAN
METHOD:PUBLISH
X-ORIGINAL-URL:https://wcif.org
X-WR-CALDESC:Events for West Central Initiative
REFRESH-INTERVAL;VALUE=DURATION:PT1H
X-Robots-Tag:noindex
X-PUBLISHED-TTL:PT1H
BEGIN:VTIMEZONE
TZID:America/Chicago
BEGIN:DAYLIGHT
TZOFFSETFROM:-0600
TZOFFSETTO:-0500
TZNAME:CDT
DTSTART:20220313T080000
END:DAYLIGHT
BEGIN:STANDARD
TZOFFSETFROM:-0500
TZOFFSETTO:-0600
TZNAME:CST
DTSTART:20221106T070000
END:STANDARD
BEGIN:DAYLIGHT
TZOFFSETFROM:-0600
TZOFFSETTO:-0500
TZNAME:CDT
DTSTART:20230312T080000
END:DAYLIGHT
BEGIN:STANDARD
TZOFFSETFROM:-0500
TZOFFSETTO:-0600
TZNAME:CST
DTSTART:20231105T070000
END:STANDARD
BEGIN:DAYLIGHT
TZOFFSETFROM:-0600
TZOFFSETTO:-0500
TZNAME:CDT
DTSTART:20240310T080000
END:DAYLIGHT
BEGIN:STANDARD
TZOFFSETFROM:-0500
TZOFFSETTO:-0600
TZNAME:CST
DTSTART:20241103T070000
END:STANDARD
END:VTIMEZONE
BEGIN:VEVENT
DTSTART;VALUE=DATE:20230907
DTEND;VALUE=DATE:20230924
DTSTAMP:20260423T130655
CREATED:20230912T150004Z
LAST-MODIFIED:20230912T150004Z
UID:10000128-1694044800-1695513599@wcif.org
SUMMARY:Welcoming Week 2023
DESCRIPTION:Our goal is a world where everyone belongs and can thrive.\nWe envision a future where all people feel welcome\, appreciated for their unique attributes\, and connected to their neighbors\, communities\, and natural environments. As communities in west central Minnesota look ahead to grow both economically and socially\, providing a welcoming\, safe space for all newcomers is vital. \nThat is why we participate in Welcoming Week (September 8-17\, 2023)\, a national movement organized by Welcoming America that helps communities become more welcoming to newcomers\, immigrants\, and refugees. Welcoming Week celebrations bring together neighbors of all backgrounds to build strong communities and affirm the importance of welcoming and inclusive places in achieving collective prosperity. \nView a full list of events in our region.
URL:https://wcif.org/event/welcoming-week-2023-2/
LOCATION:MN
CATEGORIES:In Person Event
ATTACH;FMTTYPE=image/png:https://wcif.org/wp-content/uploads/2023/03/WW-Logo-Full-Color-Horizontal.png
END:VEVENT
END:VCALENDAR